BEGIN:VCALENDAR
VERSION:2.0
PRODID:-//Editrice ZONA - ECPv5.14.1//NONSGML v1.0//EN
CALSCALE:GREGORIAN
METHOD:PUBLISH
X-WR-CALNAME:Editrice ZONA
X-ORIGINAL-URL:https://editricezona.it
X-WR-CALDESC:Eventi per Editrice ZONA
REFRESH-INTERVAL;VALUE=DURATION:PT1H
X-Robots-Tag:noindex
X-PUBLISHED-TTL:PT1H
BEGIN:VTIMEZONE
TZID:Europe/Rome
BEGIN:DAYLIGHT
TZOFFSETFROM:+0100
TZOFFSETTO:+0200
TZNAME:CEST
DTSTART:20230326T010000
END:DAYLIGHT
BEGIN:STANDARD
TZOFFSETFROM:+0200
TZOFFSETTO:+0100
TZNAME:CET
DTSTART:20231029T010000
END:STANDARD
BEGIN:DAYLIGHT
TZOFFSETFROM:+0100
TZOFFSETTO:+0200
TZNAME:CEST
DTSTART:20240331T010000
END:DAYLIGHT
BEGIN:STANDARD
TZOFFSETFROM:+0200
TZOFFSETTO:+0100
TZNAME:CET
DTSTART:20241027T010000
END:STANDARD
BEGIN:DAYLIGHT
TZOFFSETFROM:+0100
TZOFFSETTO:+0200
TZNAME:CEST
DTSTART:20250330T010000
END:DAYLIGHT
BEGIN:STANDARD
TZOFFSETFROM:+0200
TZOFFSETTO:+0100
TZNAME:CET
DTSTART:20251026T010000
END:STANDARD
BEGIN:DAYLIGHT
TZOFFSETFROM:+0100
TZOFFSETTO:+0200
TZNAME:CEST
DTSTART:20260329T010000
END:DAYLIGHT
BEGIN:STANDARD
TZOFFSETFROM:+0200
TZOFFSETTO:+0100
TZNAME:CET
DTSTART:20261025T010000
END:STANDARD
END:VTIMEZONE
BEGIN:VEVENT
DTSTART;TZID=Europe/Rome:20260418T110000
DTEND;TZID=Europe/Rome:20260418T123000
DTSTAMP:20260421T155259
CREATED:20260411T072315Z
LAST-MODIFIED:20260411T072315Z
UID:18399-1776510000-1776515400@editricezona.it
SUMMARY:"Il femminicidio non è un raptus" a Milano il 18 aprile 2026
DESCRIPTION:MILANO – Libreria Feltrinelli (corso Genova)\nsabato 18 aprile 2026 ore 11 \nPer il ciclo LAMPI – Rassegna stampa del sabato\, Angelo Miotto legge e commenta le ultime notizie\, con approfondimenti e letture dai quotidiani e da libri di attualità. Le ospiti di sabato 18 aprile 2026 sono Luisella Pescatori e Monica Moro\, autrici del libro Il femminicidio non è un raptus (ZONA).
URL:https://editricezona.it/event/il-femminicidio-non-e-un-raptus-a-milano-il-18-aprile-2026/
CATEGORIES:Incontro
ATTACH;FMTTYPE=image/jpeg:https://editricezona.it/wp-content/uploads/2026/04/prese-Femminicidio-18-4-2026-Milano.jpg
END:VEVENT
BEGIN:VEVENT
DTSTART;TZID=Europe/Rome:20260417T183000
DTEND;TZID=Europe/Rome:20260417T203000
DTSTAMP:20260421T155259
CREATED:20260410T073013Z
LAST-MODIFIED:20260410T073013Z
UID:18396-1776450600-1776457800@editricezona.it
SUMMARY:"Doppio fuoco" a Genova il 17 aprile 2026
DESCRIPTION:GENOVA – Circolo U.S. San Bernardo\nvia delle Grazie 40 r\nvenerdì 17 aprile 2026 ore 18.30 \nPoet – Club! presenta 4 poeti – Federico Ghillino\, Fabio Poggi\, Teresa Priano\, Rossella Maiore Tamponi – in dialogo sui loro rispettivi libri (Parabola di Fera Infèri\, Bianco tipografico\, Cronologia degli sguardi\, Doppio fuoco) con Sara Sorrentino \nIngresso con tessera ARCI
URL:https://editricezona.it/event/doppio-fuoco-a-genova-il-17-aprile-2026/
CATEGORIES:Incontro
ATTACH;FMTTYPE=image/jpeg:https://editricezona.it/wp-content/uploads/2026/04/prese-Maiore-Tamponi-17-aprile-2026.jpg
END:VEVENT
BEGIN:VEVENT
DTSTART;TZID=Europe/Rome:20251125T170000
DTEND;TZID=Europe/Rome:20251125T190000
DTSTAMP:20260421T155259
CREATED:20251118T083319Z
LAST-MODIFIED:20251118T083446Z
UID:18216-1764090000-1764097200@editricezona.it
SUMMARY:"Riscopriamo Plinio Guidoni" il 25 novembre 2025 a Genova
DESCRIPTION:GENOVA – Dipartimento Architettura e Design (piazza Sarzano)\nAula San Salvatore in Sarzano\nmartedì 25 novembre 2025 ore 17 \nRiscopriamo Plinio Guidoni\nIntervengono Francesco De Nicola e Roberto Trovato \nPlinio Guidoni (1922-1994)\, nato a Camogli\, a dieci anni si trasferì a Genova\, dove compì i suoi studi superiori e universitari. Nel 1944 fu catturato e deportato in Germania\, potendo rientrare in patria solo l’anno successivo. La professione bancaria gli richiese numerosi trasferimenti (Serravalle Scrivia\, Firenze\, Torino\, Asti e Roma). Spinto anche dalla conoscenza\, avvenuta a Roma con Mario Dell’Arco (autore con Pasolini nel 1952 della prima antologia pubblicata in Italia della Poesia dialettale del Novecento)\, si orientò verso l’uso del genovese nella composizione dei suoi versi che formarono i quattro volumi da lui pubblicati\, ridati alle stampe nella raccolta A stissa ch’a ciòcca into veuo. Poexie 1969-1990 (Editrice ZONA – collana Zimme de braxa): A çittæ deserta (1969)\, L’ostaia (1978)\, Sette corali (1982) e Controvento (1990).
URL:https://editricezona.it/event/riscopriamo-plinio-guidoni-a-genova-il-25-novembre-2025/
CATEGORIES:Incontro
ATTACH;FMTTYPE=image/jpeg:https://editricezona.it/wp-content/uploads/2025/04/GUIDONI.jpg
END:VEVENT
BEGIN:VEVENT
DTSTART;TZID=Europe/Rome:20251004T153000
DTEND;TZID=Europe/Rome:20251004T190000
DTSTAMP:20260421T155259
CREATED:20250922T084619Z
LAST-MODIFIED:20250922T084735Z
UID:18131-1759591800-1759604400@editricezona.it
SUMMARY:"Le forme dell'oralità poetica" il 4 ottobre 2025 a Firenze
DESCRIPTION:
URL:https://editricezona.it/event/forme-delloralita-poetica-il-4-ottobre-2025-a-firenze/
CATEGORIES:Incontro
END:VEVENT
BEGIN:VEVENT
DTSTART;TZID=Europe/Rome:20250218T193000
DTEND;TZID=Europe/Rome:20250218T213000
DTSTAMP:20260421T155259
CREATED:20250211T111803Z
LAST-MODIFIED:20250211T111803Z
UID:17927-1739907000-1739914200@editricezona.it
SUMMARY:"Syd Barrett. Scritto sui rovi" il 18 febbraio 2025 a Correggio
DESCRIPTION:CORREGGIO (Reggio Emilia) – La Galera ristopub (Corso Cavour 19A)\nmartedì 18 febbraio 2025 ore 19.30 \nNell’ambito della rassegna Libri da Galera\nincontro con l’autore Luca Chino Ferrari per la presentazione del suo libro \nSyd Barrett. Scritto sui rovi\n(ZONA Music Books) \nConduce Fabrizio Tavernelli\nA seguire live di Patrick Edera basato sui classici di Barrett \nInfo e prenotazioni 0522 643088 – 342 7295058
URL:https://editricezona.it/event/syd-barrett-scritto-sui-rovi-il-18-febbraio-2025-a-correggio/
LOCATION:La Galera\, Corso Cavour 19A\, Correggio\, Reggio Emilia\, 42025\, Italia
CATEGORIES:Incontro
ATTACH;FMTTYPE=image/jpeg:https://editricezona.it/wp-content/uploads/2024/02/SYD-BARRETT.jpg
END:VEVENT
BEGIN:VEVENT
DTSTART;TZID=Europe/Rome:20241113T080000
DTEND;TZID=Europe/Rome:20241113T170000
DTSTAMP:20260421T155259
CREATED:20241113T083515Z
LAST-MODIFIED:20241113T083515Z
UID:17874-1731484800-1731517200@editricezona.it
SUMMARY:"Una vita per niente banale" il 16 novembre 2024 a Sestri Ponente
DESCRIPTION:GENOVA – SESTRI PONENTE – Mondadori Bookstore (via Sestri 46)\nsabato 16 novembre 2024 dalle ore 16 \nFransibo vi aspetta in libreria per il firmacopie del suo libro\nUna vita per niente banale\nZONA Contemporanea
URL:https://editricezona.it/event/una-vita-per-niente-banale-il-16-novembre-2024-a-sestri-ponente/
CATEGORIES:Incontro
ATTACH;FMTTYPE=image/png:https://editricezona.it/wp-content/uploads/2024/11/LOCANDINA-SESTRI-PONENTE.png
END:VEVENT
BEGIN:VEVENT
DTSTART;TZID=Europe/Rome:20240701T100000
DTEND;TZID=Europe/Rome:20240704T200000
DTSTAMP:20260421T155259
CREATED:20240625T085923Z
LAST-MODIFIED:20240625T085923Z
UID:17683-1719828000-1720123200@editricezona.it
SUMMARY:Fransibo a Boccadasse dall'1 al 4 luglio 2024 con "Una vita per niente banale"
DESCRIPTION:Fransibo\, genovese doc\, abile affabulatore e dinamico raccontatore\, mette in fila nel suo memoir Una vita per niente banale una serie di eventi e vicissitudini legati alla propria esperienza di vita. Nei panni di Filippo\, il protagonista del racconto\, l’autore descrive vicende talvolta rocambolesche\, tenere\, picaresche o sentimentali\, sulla scorta di un percorso di vita che lo ha portato in giro per il mondo. \nPossiamo incontrare Fransibo per ben quattro giorni\, da lunedì 1 a giovedì 4 luglio 2024\, dalle ore 10 alle 20\, sulla piazzetta di Boccadasse\, per un prolungato firmacopie e per conoscere questo eclettico personaggio\, ascoltare dalla sua viva voce i racconti e le storie che potremo leggere nel libro. \nL’autore sceglie Boccadasse\, per questa sua prima nazionale\, perché lo ritiene il proprio “luogo del cuore”\, il posto che da sempre porta l’incanto di Genova\, che ammalia residenti e visitatori. Ma Boccadasse è anche il luogo delle riflessioni più profonde di Filippo. \nQui Fransibo incontra i lettori\, per portarli nel vivo del romanzo della propria vita\, per far rivivere a ciascuno le vicende che descrive e che vedono Genova e Boccadasse protagoniste delle sue vicissitudini e dei suoi sogni. Perché la vita\, a volte\, non è “per niente banale”.
URL:https://editricezona.it/event/fransibo-a-boccadasse-dall1-al-4-luglio-2024-con-una-vita-per-niente-banale/
LOCATION:Saletta Boccadasse\, Piazzetta\, Boccadasse\, Genova\, 16146\, Italia
CATEGORIES:Incontro
ATTACH;FMTTYPE=image/jpeg:https://editricezona.it/wp-content/uploads/2024/06/UNA-VITA-PER-NIENTE-BANALE-2-300dpi.jpg
END:VEVENT
BEGIN:VEVENT
DTSTART;TZID=Europe/Rome:20240530T183000
DTEND;TZID=Europe/Rome:20240530T200000
DTSTAMP:20260421T155259
CREATED:20240502T084114Z
LAST-MODIFIED:20240509T103744Z
UID:17584-1717093800-1717099200@editricezona.it
SUMMARY:"Syd Barrett. Scritto sui rovi" al Feltrinelli Point di Savona
DESCRIPTION:SAVONA – Feltrinelli Point (via Astengo 9r/11r)\ngiovedì 30 maggio 2024 ore 18.30 \nI lettori incontrano Luca Chino Ferrari\, autore di\nSyd Barrett. Scritto sui rovi\n(ZONA Music Books) \nPresenta Mirco Delfino\nCon la proiezione di alcune clip dei Pink Floyd del 1967
URL:https://editricezona.it/event/syd-barrett-scritto-sui-rovi-alla-feltrinelli-di-savona/
LOCATION:Libreria Feltrinelli Point\, Via C. Astengo\, 9r/11r\, Savona\, Savona\, 17100\, Italia
CATEGORIES:Incontro
ATTACH;FMTTYPE=image/jpeg:https://editricezona.it/wp-content/uploads/2024/05/prese-30-maggio-2024.jpg
END:VEVENT
BEGIN:VEVENT
DTSTART;TZID=Europe/Rome:20240525T173000
DTEND;TZID=Europe/Rome:20240525T200000
DTSTAMP:20260421T155259
CREATED:20240521T150707Z
LAST-MODIFIED:20240521T150707Z
UID:17609-1716658200-1716667200@editricezona.it
SUMMARY:Marco Palladini a Firenze con "Creando Chaos"
DESCRIPTION:FIRENZE – Area N.O.\nvia Panicale 24 rosso\nsabato 25 maggio 2024 ore 17.30\nMassimo Mori vi invita all’incontro con \nMarco Palladini\ne le sue ultime pubblicazioni\nil libro Via memoriae / Via Crucis (Edizioni Gattomerlino\, 2022)\nil disco di spoken music Creando Chaos (Editrice ZONA\, 2023) \nNe parlano:\nDesirée Massaroni e Stefano Lanuzza\nCon brevi interventi poetici sul tema della memoria intervengono:\nDaniela Gentile\, Roberto Balò e Francesco Vasarri \nNell’occasione saranno proiettati:\nil corto Il resto del padre (2024)\ni videoclip di Sono Sono Sono e Rap…presaglia (2024) \nInfo: le5arti@hotmail.com
URL:https://editricezona.it/event/marco-palladini-a-firenze-con-creando-chaos/
CATEGORIES:Incontro
ATTACH;FMTTYPE=image/jpeg:https://editricezona.it/wp-content/uploads/2023/08/CREANDO-CHAOS.jpg
END:VEVENT
BEGIN:VEVENT
DTSTART;TZID=Europe/Rome:20240111T170000
DTEND;TZID=Europe/Rome:20240111T200000
DTSTAMP:20260421T155259
CREATED:20240110T112638Z
LAST-MODIFIED:20240110T112638Z
UID:17436-1704992400-1705003200@editricezona.it
SUMMARY:Gli editori genovesi ricordano Fabrizio De André - Genova Capitale del Libro
DESCRIPTION:GENOVA CAPITALE DELLA MUSICA\nper il ciclo “Dieci volti di Genova: gli Editori e la Città” \nIn coincidenza del 25° anniversario della scomparsa di Fabrizio De André (11 gennaio 1999-11 gennaio 2024)\, gli Editori genovesi organizzano un evento legato alla tradizione e alla “scuola” musicale genovese e alle loro pubblicazioni \n«Genova Capitale della Musica»: è questo il titolo del secondo incontro del ciclo «Dieci volti di Genova: gli Editori e la Città»\, organizzato dagli Editori Genovesi\, in collaborazione con il Comune di Genova e Palazzo Ducale Fondazione per la Cultura\, nell’ambito delle manifestazioni di Genova Capitale Italiana del Libro 2023. \nL’incontro su «Genova Capitale della Musica» si terrà giovedì 11 gennaio 2024\, giorno del venticinquesimo anniversario della scomparsa di Fabrizio De André\, alle ore 17\, a Palazzo Ducale\, nel Salone del Minor Consiglio. L’ingresso è libero. \nIl focus di questa seconda tappa sarà la musica con i suoi tanti protagonisti. Genova e la Liguria sono infatti un centro importante nella tradizione e nel panorama musicale non soltanto italiano\, da Niccolò Paganini alla “scuola” del cantautorato genovese fino ai più recenti protagonisti della scena giovanile. Numerose e illustri le presenze di ospiti e autori\, sia sul versante della scuola dei cantautori genovesi sia della tradizione popolare e di quella “classica”. \nGalata Edizioni sarà presente con tutte le proprie pubblicazioni dedicate alla scuola dei cantautori genovesi e\, in particolare\, con «Mare Faber. Le storie di Creuza de Mâ» di Guido Festinese\, la cui nuova edizione uscirà a febbraio\, in coincidenza con il quarantennale dell’uscita dell’Album di Fabrizio De André. Invitati da Galata Edizioni sono Francesco Baccini\, Renato Marrale\, percussionista a Sanremo 1972 per il celebre “Jesahel”\, Margherita Faloni\, corista anch’ella a Sanremo 1972 per “Jesahel”; attesa anche Claudia Pastorino\, cantautrice\, musicologa e docente universitario. \nInterverrà Piero Cademartori di Editrice ZONA\, per presentare i libri che la casa editrice ha dedicato a Fabrizio De André\, nonché il recentissimo “Saper leggere il libro del mondo. Volume XIV” con i finalisti del Premio De André “Parlare musica” di Roma\, organizzato da iCompany e con Dori Ghezzi tra i giurati\, e Grafica KC\, con i propri libri sulle tradizioni locali e\, in particolare\, sull’insegnamento dei canti popolari nelle scuole. \nDe Ferrari Editore presenterà il libro di Anna Reybaudi «Don Andrea Gallo. Una testimonianza di vita tra fede\, pratiche\, significati». \nDue saranno i libri dell’editore Il Canneto\, di cui si parlerà\, presenti gli autori: «I suoni della vita»\, raccolta di racconti di Rudy Cervetto\, batterista jazz\, ideatore\, con il Teatro Nazionale di Genova\, di «Jazz and Breakfast» e presidente del Louisiana Jazz Club\, e «Sulla scia del gigante gentile» di Rino Surace\, romanzo che\, partendo dal Gentile Giant\, ripercorre la nascita e lo sviluppo delle band degli Anni Settanta. \nCon Erga Editore\, i suoi libri e i suoi ospiti\, i lettori entreranno nel vivo della tradizione musicale genovese. Alla giornata di giovedì prossimo\, infatti\, Erga interverrà con il volume sulla storia de «I Trilli – Il cuore di Genova» e avrà\, quali ospiti\, Vladi dei Trilli\, che canterà una canzone in genovese dedicata a De André\, mentre parleranno di Paganini e della sua scuola il maestro Eliano Calamaro\, violinista\, Ambasciatore di Genova nel Mondo\, e Fiorella Colombo\, autrice di «Paganini raccontato ai bambini» e Ivaldo Castellani con il suo «La bisaccia il bordone e il sanrocchino» \nSu Paganini e il suo “mito” ci si soffermerà infine con il volume «Paganini: genesi ed eredità di un mito»\, a cura di Mariateresa Dellaborra\, Roberto Iovino e Danilo Prefumo\, pubblicato da Stefano Termanini Editore. La casa editrice presenterà ai propri lettori anche i volumi «Uccidete Calaf!» di Roberto Iovino e «Una vita in ascolto. Dieci conversazioni sulla musica con Michele Trenti»\, a cura di Lorenzo Costa. Saranno presenti Roberto Iovino\, critico musicale\, musicologo\, direttore del Centro Paganini\, e il maestro Michele Trenti\, compositore e direttore d’orchestra\, insignito lo scorso ottobre della Medaglia colombiana. \n«Dieci volti di Genova: gli Editori e la Città»\, di cui «Genova Capitale della Musica» costituisce la seconda puntata\, è la proposta di contenuto che gli Editori Genovesi hanno organizzato per Genova Capitale Italiana del Libro 2023. Dieci incontri\, attraverso i quali presentare ai propri lettori e alla città i libri più recenti e il patrimonio editoriale a catalogo. Ciascun incontro è dedicato a un tema\, scelto fra i più caratterizzanti per Genova. Di volta in volta\, in una serie di brevi interventi\, gli Editori Genovesi presentano i propri libri e i propri autori\, offrendo al pubblico dei lettori uno spaccato della produzione su ciascun tema e il valore della propria proposta culturale per la Città. \n 
URL:https://editricezona.it/event/gli-editori-genovesi-ricordano-fabrizio-de-andre-genova-capitale-del-libro/
LOCATION:Palazzo Ducale\, Piazza Giacomo Matteotti 9\, Genova\, Italia\, 16123\, Italia
CATEGORIES:Incontro
ATTACH;FMTTYPE=image/jpeg:https://editricezona.it/wp-content/uploads/2023/12/GENOVA-small-capitaledellibro2023.jpg
END:VEVENT
BEGIN:VEVENT
DTSTART;TZID=Europe/Rome:20231021T110000
DTEND;TZID=Europe/Rome:20231021T130000
DTSTAMP:20260421T155259
CREATED:20231018T064513Z
LAST-MODIFIED:20231018T064724Z
UID:17301-1697886000-1697893200@editricezona.it
SUMMARY:Franca Canero Medici a Bogliasco il 21 ottobre 2023
DESCRIPTION:Bogliasco (Ge) – sabato 21 ottobre 2023 ore 11\nSala P. Bozzo\, largo Skriabjn 1 \nBOGLIASCO CHE LEGGE\n“Genova e la Liguria\, dimore dell’anima e altri nidi\, anche nel ricordo di Fabrizio De André”\nIncontro con l’autrice Franca Canero Medici\nautrice del libro Fuoco di legna\, anime in cielo. Fabrizio De André e i suoi cattivi maestri (ZONA Music Books) \nL’incontro si articolerà attraverso un percorso ideale che ha come sfondo Genova e la Liguria\, visti come paesaggi dell’anima. Al termine verrà offerto un aperitivo. \nInfo: Proloco Bogliasco 010.3470429
URL:https://editricezona.it/event/franca-canero-medici-a-bogliasco-il-21-ottobre-2023/
CATEGORIES:Incontro
ATTACH;FMTTYPE=image/jpeg:https://editricezona.it/wp-content/uploads/2023/10/CaneroMediciBogliasco.jpg
END:VEVENT
END:VCALENDAR